BEGIN:VCALENDAR
VERSION:2.0
PRODID:-//wp-events-plugin.com//7.2.3.1//EN
TZID:Pacific/Honolulu
X-WR-TIMEZONE:Pacific/Honolulu
BEGIN:VEVENT
UID:74@castlebandkaneohe.org
DTSTART;TZID=Pacific/Honolulu:20241212T170000
DTEND;TZID=Pacific/Honolulu:20241212T230000
DTSTAMP:20241210T153527Z
URL:https://castlebandkaneohe.org/events/winter-concert-2/
SUMMARY:Winter Concert
DESCRIPTION:Location: Windward Mall\n\nReport Time: 5:00pm\nConcert: 6:30pm
  - 8:00pm\n\n
CATEGORIES:Concert,Jazz,Pep Band
END:VEVENT
BEGIN:VTIMEZONE
TZID:Pacific/Honolulu
X-LIC-LOCATION:Pacific/Honolulu
BEGIN:STANDARD
DTSTART:20231213T170000
TZOFFSETFROM:-1000
TZOFFSETTO:-1000
TZNAME:HST
END:STANDARD
END:VTIMEZONE
END:VCALENDAR