BEGIN:VCALENDAR
VERSION:2.0
PRODID:-//wp-events-plugin.com//7.2.3.1//EN
TZID:Pacific/Honolulu
X-WR-TIMEZONE:Pacific/Honolulu
BEGIN:VEVENT
UID:106@castlebandkaneohe.org
DTSTART;TZID=Pacific/Honolulu:20251128T000000
DTEND;TZID=Pacific/Honolulu:20251128T000000
DTSTAMP:20250910T145257Z
URL:https://castlebandkaneohe.org/events/waikiki-holiday-parade-3/
SUMMARY:Waikiki Holiday Parade
DESCRIPTION:
CATEGORIES:Parade,Pep Band
END:VEVENT
BEGIN:VTIMEZONE
TZID:Pacific/Honolulu
X-LIC-LOCATION:Pacific/Honolulu
BEGIN:STANDARD
DTSTART:20241128T000000
TZOFFSETFROM:-1000
TZOFFSETTO:-1000
TZNAME:HST
END:STANDARD
END:VTIMEZONE
END:VCALENDAR