BEGIN:VCALENDAR
VERSION:2.0
PRODID:-//wp-events-plugin.com//7.2.3.1//EN
TZID:Pacific/Honolulu
X-WR-TIMEZONE:Pacific/Honolulu
BEGIN:VEVENT
UID:58@castlebandkaneohe.org
DTSTART;TZID=Pacific/Honolulu:20240913T170000
DTEND;TZID=Pacific/Honolulu:20240913T220000
DTSTAMP:20240817T170737Z
URL:https://castlebandkaneohe.org/events/vswailua20240913/
SUMMARY:vs Wailua @Castle
DESCRIPTION:Report Time: 5:00pm\n\nGame Time: 7:00pm
CATEGORIES:Football,Pep Band
END:VEVENT
BEGIN:VTIMEZONE
TZID:Pacific/Honolulu
X-LIC-LOCATION:Pacific/Honolulu
BEGIN:STANDARD
DTSTART:20230914T170000
TZOFFSETFROM:-1000
TZOFFSETTO:-1000
TZNAME:HST
END:STANDARD
END:VTIMEZONE
END:VCALENDAR