BEGIN:VCALENDAR
VERSION:2.0
PRODID:-//wp-events-plugin.com//7.2.3.1//EN
TZID:Pacific/Honolulu
X-WR-TIMEZONE:Pacific/Honolulu
BEGIN:VEVENT
UID:63@castlebandkaneohe.org
DTSTART;TZID=Pacific/Honolulu:20241011T170000
DTEND;TZID=Pacific/Honolulu:20241011T220000
DTSTAMP:20240818T061809Z
URL:https://castlebandkaneohe.org/events/vs-roosevelt-castle/
SUMMARY:vs Roosevelt @Castle
DESCRIPTION:Report Time: 5:00pm\n\nGame Time: 7:00pm
CATEGORIES:Football,Pep Band
END:VEVENT
BEGIN:VTIMEZONE
TZID:Pacific/Honolulu
X-LIC-LOCATION:Pacific/Honolulu
BEGIN:STANDARD
DTSTART:20231012T170000
TZOFFSETFROM:-1000
TZOFFSETTO:-1000
TZNAME:HST
END:STANDARD
END:VTIMEZONE
END:VCALENDAR