BEGIN:VCALENDAR
VERSION:2.0
PRODID:-//wp-events-plugin.com//7.2.3.1//EN
TZID:Pacific/Honolulu
X-WR-TIMEZONE:Pacific/Honolulu
BEGIN:VEVENT
UID:64@castlebandkaneohe.org
DTSTART;TZID=Pacific/Honolulu:20241019T150000
DTEND;TZID=Pacific/Honolulu:20241019T213000
DTSTAMP:20241016T195951Z
URL:https://castlebandkaneohe.org/events/vs-mckinley-roosevelt/
SUMMARY:vs McKinley @Roosevelt
DESCRIPTION:Report Time: 3:00pm\nBus Leaves: 3:30pm\nGame Time: 6:00pm
CATEGORIES:Football,Pep Band
END:VEVENT
BEGIN:VTIMEZONE
TZID:Pacific/Honolulu
X-LIC-LOCATION:Pacific/Honolulu
BEGIN:STANDARD
DTSTART:20231020T150000
TZOFFSETFROM:-1000
TZOFFSETTO:-1000
TZNAME:HST
END:STANDARD
END:VTIMEZONE
END:VCALENDAR