BEGIN:VCALENDAR
VERSION:2.0
PRODID:-//wp-events-plugin.com//7.2.3.1//EN
TZID:Pacific/Honolulu
X-WR-TIMEZONE:Pacific/Honolulu
BEGIN:VEVENT
UID:62@castlebandkaneohe.org
DTSTART;TZID=Pacific/Honolulu:20241005T150000
DTEND;TZID=Pacific/Honolulu:20241005T200000
DTSTAMP:20240817T171129Z
URL:https://castlebandkaneohe.org/events/vs-kalani-kaiser/
SUMMARY:vs Kalani @Kaiser
DESCRIPTION:Report Time: 3:30pm\n\nGame Time: 6:00pm
CATEGORIES:Football,Pep Band
END:VEVENT
BEGIN:VTIMEZONE
TZID:Pacific/Honolulu
X-LIC-LOCATION:Pacific/Honolulu
BEGIN:STANDARD
DTSTART:20231006T150000
TZOFFSETFROM:-1000
TZOFFSETTO:-1000
TZNAME:HST
END:STANDARD
END:VTIMEZONE
END:VCALENDAR