BEGIN:VCALENDAR
VERSION:2.0
PRODID:-//wp-events-plugin.com//7.2.3.1//EN
TZID:Pacific/Honolulu
X-WR-TIMEZONE:Pacific/Honolulu
BEGIN:VEVENT
UID:97@castlebandkaneohe.org
DTSTART;TZID=Pacific/Honolulu:20250830T140000
DTEND;TZID=Pacific/Honolulu:20250830T140000
DTSTAMP:20250830T061933Z
URL:https://castlebandkaneohe.org/events/vs-kalaheo-farrington/
SUMMARY:Football vs Kalaheo @Farrington
DESCRIPTION:
CATEGORIES:Football,Pep Band
END:VEVENT
BEGIN:VTIMEZONE
TZID:Pacific/Honolulu
X-LIC-LOCATION:Pacific/Honolulu
BEGIN:STANDARD
DTSTART:20240830T140000
TZOFFSETFROM:-1000
TZOFFSETTO:-1000
TZNAME:HST
END:STANDARD
END:VTIMEZONE
END:VCALENDAR