BEGIN:VCALENDAR
VERSION:2.0
PRODID:-//wp-events-plugin.com//7.2.3.1//EN
TZID:Pacific/Honolulu
X-WR-TIMEZONE:Pacific/Honolulu
BEGIN:VEVENT
UID:66@castlebandkaneohe.org
DTSTART;TZID=Pacific/Honolulu:20240823T170000
DTEND;TZID=Pacific/Honolulu:20240823T220000
DTSTAMP:20240821T232925Z
URL:https://castlebandkaneohe.org/events/vs-aiea-castle/
SUMMARY:vs Aiea @Castle
DESCRIPTION:Preseason game\n\nReport Time: 5:00pm\n\nGame Time: 7:00pm
CATEGORIES:Football,Pep Band
END:VEVENT
BEGIN:VTIMEZONE
TZID:Pacific/Honolulu
X-LIC-LOCATION:Pacific/Honolulu
BEGIN:STANDARD
DTSTART:20230824T170000
TZOFFSETFROM:-1000
TZOFFSETTO:-1000
TZNAME:HST
END:STANDARD
END:VTIMEZONE
END:VCALENDAR