BEGIN:VCALENDAR
VERSION:2.0
PRODID:-//wp-events-plugin.com//7.2.3.1//EN
TZID:Pacific/Honolulu
X-WR-TIMEZONE:Pacific/Honolulu
BEGIN:VEVENT
UID:118@castlebandkaneohe.org
DTSTART;TZID=Pacific/Honolulu:20251111T093000
DTEND;TZID=Pacific/Honolulu:20251111T214500
DTSTAMP:20251109T184817Z
URL:https://castlebandkaneohe.org/events/rainbow-invitational-3/
SUMMARY:Rainbow Invitational
DESCRIPTION:9:30am   report time\n10:00am - 12:00pm field show rehearsal\n1
 2:00pm - 1:00pm lunch on own\n1:00pm   dress \n2:00pm   load bus and depar
 t Castle\n4:00pm   performance\n8:40pm   awards\n9:45pm    bus arrives at 
 castle
CATEGORIES:Field Show
END:VEVENT
BEGIN:VTIMEZONE
TZID:Pacific/Honolulu
X-LIC-LOCATION:Pacific/Honolulu
BEGIN:STANDARD
DTSTART:20241111T093000
TZOFFSETFROM:-1000
TZOFFSETTO:-1000
TZNAME:HST
END:STANDARD
END:VTIMEZONE
END:VCALENDAR