BEGIN:VCALENDAR
VERSION:2.0
PRODID:-//wp-events-plugin.com//7.2.3.1//EN
TZID:Pacific/Honolulu
X-WR-TIMEZONE:Pacific/Honolulu
BEGIN:VEVENT
UID:78@castlebandkaneohe.org
DTSTART;TZID=Pacific/Honolulu:20241111T064500
DTEND;TZID=Pacific/Honolulu:20241111T150000
DTSTAMP:20241107T073159Z
URL:https://castlebandkaneohe.org/events/rainbow-invitational-2/
SUMMARY:Rainbow Invitational
DESCRIPTION:report time: 6:45am
CATEGORIES:Field Show
END:VEVENT
BEGIN:VTIMEZONE
TZID:Pacific/Honolulu
X-LIC-LOCATION:Pacific/Honolulu
BEGIN:STANDARD
DTSTART:20231112T064500
TZOFFSETFROM:-1000
TZOFFSETTO:-1000
TZNAME:HST
END:STANDARD
END:VTIMEZONE
END:VCALENDAR