BEGIN:VCALENDAR
VERSION:2.0
PRODID:-//wp-events-plugin.com//7.2.3.1//EN
TZID:Pacific/Honolulu
X-WR-TIMEZONE:Pacific/Honolulu
BEGIN:VEVENT
UID:86@castlebandkaneohe.org
DTSTART;TZID=Pacific/Honolulu:20250403T190000
DTEND;TZID=Pacific/Honolulu:20250403T213000
DTSTAMP:20250403T064042Z
URL:https://castlebandkaneohe.org/events/parade-of-bands-2/
SUMMARY:Parade of Bands
DESCRIPTION:Report Time: 7:00pm McKinley Cafeteria
CATEGORIES:Parade,Pep Band
END:VEVENT
BEGIN:VTIMEZONE
TZID:Pacific/Honolulu
X-LIC-LOCATION:Pacific/Honolulu
BEGIN:STANDARD
DTSTART:20240403T190000
TZOFFSETFROM:-1000
TZOFFSETTO:-1000
TZNAME:HST
END:STANDARD
END:VTIMEZONE
END:VCALENDAR