BEGIN:VCALENDAR
VERSION:2.0
PRODID:-//wp-events-plugin.com//7.2.3.1//EN
TZID:Pacific/Honolulu
X-WR-TIMEZONE:Pacific/Honolulu
BEGIN:VEVENT
UID:75@castlebandkaneohe.org
DTSTART;TZID=Pacific/Honolulu:20241104T170000
DTEND;TZID=Pacific/Honolulu:20241104T170000
DTSTAMP:20241028T054918Z
URL:https://castlebandkaneohe.org/events/oahu-marching-band-festival/
SUMMARY:Oahu Marching Band Festival
DESCRIPTION:Report time: tbd
CATEGORIES:Field Show
END:VEVENT
BEGIN:VTIMEZONE
TZID:Pacific/Honolulu
X-LIC-LOCATION:Pacific/Honolulu
BEGIN:STANDARD
DTSTART:20231105T170000
TZOFFSETFROM:-1000
TZOFFSETTO:-1000
TZNAME:HST
END:STANDARD
END:VTIMEZONE
END:VCALENDAR