BEGIN:VCALENDAR
VERSION:2.0
PRODID:-//wp-events-plugin.com//7.2.3.1//EN
TZID:Pacific/Honolulu
X-WR-TIMEZONE:Pacific/Honolulu
BEGIN:VEVENT
UID:121@castlebandkaneohe.org
DTSTART;TZID=Pacific/Honolulu:20251115T170000
DTEND;TZID=Pacific/Honolulu:20251115T230000
DTSTAMP:20251115T180401Z
URL:https://castlebandkaneohe.org/events/mililani-trojan-bandfest/
SUMMARY:Mililani Trojan Bandfest
DESCRIPTION:9:30am: report time\n\n10:00 - 12:00pm: rehearsal\n\n4:00pm: ar
 rive at Mililani\n\n4:00pm: gates open\n\n5:00pm: event starts\n\n5:20pm: 
 performance\n\n11:00pm: arrive at Castle
CATEGORIES:Field Show
END:VEVENT
BEGIN:VTIMEZONE
TZID:Pacific/Honolulu
X-LIC-LOCATION:Pacific/Honolulu
BEGIN:STANDARD
DTSTART:20241115T170000
TZOFFSETFROM:-1000
TZOFFSETTO:-1000
TZNAME:HST
END:STANDARD
END:VTIMEZONE
END:VCALENDAR