BEGIN:VCALENDAR
VERSION:2.0
PRODID:-//wp-events-plugin.com//7.2.3.1//EN
TZID:Pacific/Honolulu
X-WR-TIMEZONE:Pacific/Honolulu
BEGIN:VEVENT
UID:77@castlebandkaneohe.org
DTSTART;TZID=Pacific/Honolulu:20241109T110000
DTEND;TZID=Pacific/Honolulu:20241109T210000
DTSTAMP:20241030T074731Z
URL:https://castlebandkaneohe.org/events/mililani-bandfest-2/
SUMMARY:Mililani Bandfest
DESCRIPTION:Report time: tbd
CATEGORIES:Field Show
END:VEVENT
BEGIN:VTIMEZONE
TZID:Pacific/Honolulu
X-LIC-LOCATION:Pacific/Honolulu
BEGIN:STANDARD
DTSTART:20231110T110000
TZOFFSETFROM:-1000
TZOFFSETTO:-1000
TZNAME:HST
END:STANDARD
END:VTIMEZONE
END:VCALENDAR