BEGIN:VCALENDAR
VERSION:2.0
PRODID:-//wp-events-plugin.com//7.2.3.1//EN
TZID:Pacific/Honolulu
X-WR-TIMEZONE:Pacific/Honolulu
BEGIN:VEVENT
UID:113@castlebandkaneohe.org
DTSTART;TZID=Pacific/Honolulu:20251018T150000
DTEND;TZID=Pacific/Honolulu:20251018T150000
DTSTAMP:20250910T150950Z
URL:https://castlebandkaneohe.org/events/menehune-classic2025/
SUMMARY:Menehune Classic
DESCRIPTION:
CATEGORIES:Field Show
END:VEVENT
BEGIN:VTIMEZONE
TZID:Pacific/Honolulu
X-LIC-LOCATION:Pacific/Honolulu
BEGIN:STANDARD
DTSTART:20241018T150000
TZOFFSETFROM:-1000
TZOFFSETTO:-1000
TZNAME:HST
END:STANDARD
END:VTIMEZONE
END:VCALENDAR