BEGIN:VCALENDAR
VERSION:2.0
PRODID:-//wp-events-plugin.com//7.2.3.1//EN
TZID:Pacific/Honolulu
X-WR-TIMEZONE:Pacific/Honolulu
BEGIN:VEVENT
UID:70@castlebandkaneohe.org
DTSTART;TZID=Pacific/Honolulu:20241019T103000
DTEND;TZID=Pacific/Honolulu:20241019T213000
DTSTAMP:20241016T195132Z
URL:https://castlebandkaneohe.org/events/menehune-classic2024/
SUMMARY:Menehune Classic
DESCRIPTION:10:30am: Report time\n11:00am - 1:00pm: rehearsal\n1:00pm - 2:0
 0pm: lunch on own\n2:00pm - 3:00pm: change clothes (Parade uniform)\n3:30p
 m: bus leaves
CATEGORIES:Field Show
END:VEVENT
BEGIN:VTIMEZONE
TZID:Pacific/Honolulu
X-LIC-LOCATION:Pacific/Honolulu
BEGIN:STANDARD
DTSTART:20231020T103000
TZOFFSETFROM:-1000
TZOFFSETTO:-1000
TZNAME:HST
END:STANDARD
END:VTIMEZONE
END:VCALENDAR