BEGIN:VCALENDAR
VERSION:2.0
PRODID:-//wp-events-plugin.com//7.2.3.1//EN
TZID:Pacific/Honolulu
X-WR-TIMEZONE:Pacific/Honolulu
BEGIN:VEVENT
UID:60@castlebandkaneohe.org
DTSTART;TZID=Pacific/Honolulu:20240905T170000
DTEND;TZID=Pacific/Honolulu:20240905T200000
DTSTAMP:20240811T040419Z
URL:https://castlebandkaneohe.org/events/mcteachers-night/
SUMMARY:McTeacher's Night
DESCRIPTION:
CATEGORIES:Parade,Pep Band
END:VEVENT
BEGIN:VTIMEZONE
TZID:Pacific/Honolulu
X-LIC-LOCATION:Pacific/Honolulu
BEGIN:STANDARD
DTSTART:20230906T170000
TZOFFSETFROM:-1000
TZOFFSETTO:-1000
TZNAME:HST
END:STANDARD
END:VTIMEZONE
END:VCALENDAR