BEGIN:VCALENDAR
VERSION:2.0
PRODID:-//wp-events-plugin.com//7.2.3.1//EN
TZID:Pacific/Honolulu
X-WR-TIMEZONE:Pacific/Honolulu
BEGIN:VEVENT
UID:61@castlebandkaneohe.org
DTSTART;TZID=Pacific/Honolulu:20250204T170000
DTEND;TZID=Pacific/Honolulu:20250204T200000
DTSTAMP:20240811T041237Z
URL:https://castlebandkaneohe.org/events/mcteachers-night-2/
SUMMARY:McTeacher's Night
DESCRIPTION:
CATEGORIES:Parade,Pep Band
END:VEVENT
BEGIN:VTIMEZONE
TZID:Pacific/Honolulu
X-LIC-LOCATION:Pacific/Honolulu
BEGIN:STANDARD
DTSTART:20240205T170000
TZOFFSETFROM:-1000
TZOFFSETTO:-1000
TZNAME:HST
END:STANDARD
END:VTIMEZONE
END:VCALENDAR