BEGIN:VCALENDAR
VERSION:2.0
PRODID:-//wp-events-plugin.com//7.2.3.1//EN
TZID:Pacific/Honolulu
X-WR-TIMEZONE:Pacific/Honolulu
BEGIN:VEVENT
UID:50@castlebandkaneohe.org
DTSTART;TZID=Pacific/Honolulu:20240722T080000
DTEND;TZID=Pacific/Honolulu:20240722T120000
DTSTAMP:20240721T181639Z
URL:https://castlebandkaneohe.org/events/marching-basics07222024/
SUMMARY:Marching Basics
DESCRIPTION:Bring water\, sunscreen\, and wear comfortable clothes and shoe
 s!
CATEGORIES:Concert,Field Show,Football,Jazz,Parade,Pep Band,Practice
END:VEVENT
BEGIN:VTIMEZONE
TZID:Pacific/Honolulu
X-LIC-LOCATION:Pacific/Honolulu
BEGIN:STANDARD
DTSTART:20230723T080000
TZOFFSETFROM:-1000
TZOFFSETTO:-1000
TZNAME:HST
END:STANDARD
END:VTIMEZONE
END:VCALENDAR