BEGIN:VCALENDAR
VERSION:2.0
PRODID:-//wp-events-plugin.com//7.2.3.1//EN
TZID:Pacific/Honolulu
X-WR-TIMEZONE:Pacific/Honolulu
BEGIN:VEVENT
UID:72@castlebandkaneohe.org
DTSTART;TZID=Pacific/Honolulu:20241026T074500
DTEND;TZID=Pacific/Honolulu:20241026T160000
DTSTAMP:20241022T154119Z
URL:https://castlebandkaneohe.org/events/kapolei-marching-festival/
SUMMARY:Kapolei Marching Festival
DESCRIPTION:Report time: 7:45am
CATEGORIES:Field Show
END:VEVENT
BEGIN:VTIMEZONE
TZID:Pacific/Honolulu
X-LIC-LOCATION:Pacific/Honolulu
BEGIN:STANDARD
DTSTART:20231027T074500
TZOFFSETFROM:-1000
TZOFFSETTO:-1000
TZNAME:HST
END:STANDARD
END:VTIMEZONE
END:VCALENDAR