BEGIN:VCALENDAR
VERSION:2.0
PRODID:-//wp-events-plugin.com//7.2.3.1//EN
TZID:Pacific/Honolulu
X-WR-TIMEZONE:Pacific/Honolulu
BEGIN:VEVENT
UID:119@castlebandkaneohe.org
DTSTART;TZID=Pacific/Honolulu:20251025T000000
DTEND;TZID=Pacific/Honolulu:20251025T000000
DTSTAMP:20251001T035759Z
URL:https://castlebandkaneohe.org/events/kapolei-marching-band-festival/
SUMMARY:Kapolei Marching Band Festival
DESCRIPTION:
CATEGORIES:Field Show
END:VEVENT
BEGIN:VTIMEZONE
TZID:Pacific/Honolulu
X-LIC-LOCATION:Pacific/Honolulu
BEGIN:STANDARD
DTSTART:20241025T000000
TZOFFSETFROM:-1000
TZOFFSETTO:-1000
TZNAME:HST
END:STANDARD
END:VTIMEZONE
END:VCALENDAR