BEGIN:VCALENDAR
VERSION:2.0
PRODID:-//wp-events-plugin.com//7.2.3.1//EN
TZID:Pacific/Honolulu
X-WR-TIMEZONE:Pacific/Honolulu
BEGIN:VEVENT
UID:104@castlebandkaneohe.org
DTSTART;TZID=Pacific/Honolulu:20251206T070000
DTEND;TZID=Pacific/Honolulu:20251206T070000
DTSTAMP:20250910T144959Z
URL:https://castlebandkaneohe.org/events/kaneohe-christmas-parade-3/
SUMMARY:Kaneohe Christmas Parade
DESCRIPTION:Report Time: 7:00am\n\nParade start time: 9:00am
CATEGORIES:Parade,Pep Band
END:VEVENT
BEGIN:VTIMEZONE
TZID:Pacific/Honolulu
X-LIC-LOCATION:Pacific/Honolulu
BEGIN:STANDARD
DTSTART:20241206T070000
TZOFFSETFROM:-1000
TZOFFSETTO:-1000
TZNAME:HST
END:STANDARD
END:VTIMEZONE
END:VCALENDAR