BEGIN:VCALENDAR
VERSION:2.0
PRODID:-//wp-events-plugin.com//7.2.3.1//EN
TZID:Pacific/Honolulu
X-WR-TIMEZONE:Pacific/Honolulu
BEGIN:VEVENT
UID:80@castlebandkaneohe.org
DTSTART;TZID=Pacific/Honolulu:20241207T070000
DTEND;TZID=Pacific/Honolulu:20241207T120000
DTSTAMP:20241110T065737Z
URL:https://castlebandkaneohe.org/events/kaneohe-christmas-parade-2/
SUMMARY:Kaneohe Christmas Parade
DESCRIPTION:
CATEGORIES:Parade,Pep Band
END:VEVENT
BEGIN:VTIMEZONE
TZID:Pacific/Honolulu
X-LIC-LOCATION:Pacific/Honolulu
BEGIN:STANDARD
DTSTART:20231208T070000
TZOFFSETFROM:-1000
TZOFFSETTO:-1000
TZNAME:HST
END:STANDARD
END:VTIMEZONE
END:VCALENDAR