BEGIN:VCALENDAR
VERSION:2.0
PRODID:-//wp-events-plugin.com//7.2.3.1//EN
TZID:Pacific/Honolulu
X-WR-TIMEZONE:Pacific/Honolulu
BEGIN:VEVENT
UID:73@castlebandkaneohe.org
DTSTART;TZID=Pacific/Honolulu:20241102T093000
DTEND;TZID=Pacific/Honolulu:20241102T203000
DTSTAMP:20241030T043332Z
URL:https://castlebandkaneohe.org/events/kamehameha-tournament-of-bands-2/
SUMMARY:Kamehameha Tournament of Bands
DESCRIPTION:8:15 AM\nPit crew students and drum major report to the bandroo
 m to load pit instruments and equipment into UHaul truck.\n\n9:30 AM\nFiel
 d show students report to the bandroom.\nUhaul to depart Castle to transpo
 rt pit instruments and equipment to Kamehameha Schools.\n\n10:00 AM-11:30 
 AM\nField show rehearsal\n\n11:30 AM\nHair braiding/pinning.  Dress in uni
 form.\n\n12:45 PM\nBoard bus and depart Castle\n\n1:30 PM\nArrive at Kameh
 ameha Schools\n\n3:30 PM\nCastle performs\n\n9:45 PM\nBand arrives back at
  Castle (approx.)\n\nTickets will be available for purchase at the Kameham
 eha School's Kunuiakea Stadium ticket booth ($10 adults/$5 children (5 to 
 17 yrs old).  Parking\, ticket booth and stadium gates open at 2:00 pm.  E
 vent starts at 3:00 pm.  Please arrive early to the Kamehameha campus.  Th
 ere will be 17 bands performing.  Attached for your information is a map o
 f campus parking and concession information.
CATEGORIES:Field Show
END:VEVENT
BEGIN:VTIMEZONE
TZID:Pacific/Honolulu
X-LIC-LOCATION:Pacific/Honolulu
BEGIN:STANDARD
DTSTART:20231103T093000
TZOFFSETFROM:-1000
TZOFFSETTO:-1000
TZNAME:HST
END:STANDARD
END:VTIMEZONE
END:VCALENDAR