BEGIN:VCALENDAR
VERSION:2.0
PRODID:-//wp-events-plugin.com//7.2.3.1//EN
TZID:Pacific/Honolulu
X-WR-TIMEZONE:Pacific/Honolulu
BEGIN:VEVENT
UID:85@castlebandkaneohe.org
DTSTART;TZID=Pacific/Honolulu:20250309T130000
DTEND;TZID=Pacific/Honolulu:20250309T230000
DTSTAMP:20250305T154603Z
URL:https://castlebandkaneohe.org/events/honolulu-festival-parade-2/
SUMMARY:Honolulu Festival Parade
DESCRIPTION:Report Time: 1:00pm\n\nNagoya Fireworks show to follow
CATEGORIES:Parade,Pep Band
END:VEVENT
BEGIN:VTIMEZONE
TZID:Pacific/Honolulu
X-LIC-LOCATION:Pacific/Honolulu
BEGIN:STANDARD
DTSTART:20240309T130000
TZOFFSETFROM:-1000
TZOFFSETTO:-1000
TZNAME:HST
END:STANDARD
END:VTIMEZONE
END:VCALENDAR