BEGIN:VCALENDAR
VERSION:2.0
PRODID:-//wp-events-plugin.com//7.2.3.1//EN
TZID:Pacific/Honolulu
X-WR-TIMEZONE:Pacific/Honolulu
BEGIN:VEVENT
UID:105@castlebandkaneohe.org
DTSTART;TZID=Pacific/Honolulu:20251129T150000
DTEND;TZID=Pacific/Honolulu:20251129T150000
DTSTAMP:20250910T145159Z
URL:https://castlebandkaneohe.org/events/honolulu-city-lights-parade-3/
SUMMARY:Honolulu City Lights Parade
DESCRIPTION:
CATEGORIES:Parade,Pep Band
END:VEVENT
BEGIN:VTIMEZONE
TZID:Pacific/Honolulu
X-LIC-LOCATION:Pacific/Honolulu
BEGIN:STANDARD
DTSTART:20241129T150000
TZOFFSETFROM:-1000
TZOFFSETTO:-1000
TZNAME:HST
END:STANDARD
END:VTIMEZONE
END:VCALENDAR