BEGIN:VCALENDAR
VERSION:2.0
PRODID:-//wp-events-plugin.com//7.2.3.1//EN
TZID:Pacific/Honolulu
X-WR-TIMEZONE:Pacific/Honolulu
BEGIN:VEVENT
UID:117@castlebandkaneohe.org
DTSTART;TZID=Pacific/Honolulu:20251009T160000
DTEND;TZID=Pacific/Honolulu:20251009T160000
DTSTAMP:20251001T032849Z
URL:https://castlebandkaneohe.org/events/football-waialua/
SUMMARY:Football @ Waialua
DESCRIPTION:
CATEGORIES:Football,Pep Band
END:VEVENT
BEGIN:VTIMEZONE
TZID:Pacific/Honolulu
X-LIC-LOCATION:Pacific/Honolulu
BEGIN:STANDARD
DTSTART:20241009T160000
TZOFFSETFROM:-1000
TZOFFSETTO:-1000
TZNAME:HST
END:STANDARD
END:VTIMEZONE
END:VCALENDAR