BEGIN:VCALENDAR
VERSION:2.0
PRODID:-//wp-events-plugin.com//7.2.3.1//EN
TZID:Pacific/Honolulu
X-WR-TIMEZONE:Pacific/Honolulu
BEGIN:VEVENT
UID:103@castlebandkaneohe.org
DTSTART;TZID=Pacific/Honolulu:20251017T170000
DTEND;TZID=Pacific/Honolulu:20251017T170000
DTSTAMP:20250910T144850Z
URL:https://castlebandkaneohe.org/events/football-vs-pearl-city/
SUMMARY:Football vs Pearl City
DESCRIPTION:
CATEGORIES:Football,Pep Band
END:VEVENT
BEGIN:VTIMEZONE
TZID:Pacific/Honolulu
X-LIC-LOCATION:Pacific/Honolulu
BEGIN:STANDARD
DTSTART:20241017T170000
TZOFFSETFROM:-1000
TZOFFSETTO:-1000
TZNAME:HST
END:STANDARD
END:VTIMEZONE
END:VCALENDAR