BEGIN:VCALENDAR
VERSION:2.0
PRODID:-//wp-events-plugin.com//7.2.3.1//EN
TZID:Pacific/Honolulu
X-WR-TIMEZONE:Pacific/Honolulu
BEGIN:VEVENT
UID:98@castlebandkaneohe.org
DTSTART;TZID=Pacific/Honolulu:20250905T170000
DTEND;TZID=Pacific/Honolulu:20250905T170000
DTSTAMP:20250830T064246Z
URL:https://castlebandkaneohe.org/events/football-vs-mckinley/
SUMMARY:Football vs McKinley
DESCRIPTION:
CATEGORIES:Football,Pep Band
END:VEVENT
BEGIN:VTIMEZONE
TZID:Pacific/Honolulu
X-LIC-LOCATION:Pacific/Honolulu
BEGIN:STANDARD
DTSTART:20240905T170000
TZOFFSETFROM:-1000
TZOFFSETTO:-1000
TZNAME:HST
END:STANDARD
END:VTIMEZONE
END:VCALENDAR