BEGIN:VCALENDAR
VERSION:2.0
PRODID:-//wp-events-plugin.com//7.2.3.1//EN
TZID:Pacific/Honolulu
X-WR-TIMEZONE:Pacific/Honolulu
BEGIN:VEVENT
UID:87@castlebandkaneohe.org
DTSTART;TZID=Pacific/Honolulu:20250408T170000
DTEND;TZID=Pacific/Honolulu:20250408T210000
DTSTAMP:20250408T061320Z
URL:https://castlebandkaneohe.org/events/flag-football/
SUMMARY:Flag Football
DESCRIPTION:Report time: 5:00pm\nGame time: 6:45pm
CATEGORIES:Football,Pep Band
END:VEVENT
BEGIN:VTIMEZONE
TZID:Pacific/Honolulu
X-LIC-LOCATION:Pacific/Honolulu
BEGIN:STANDARD
DTSTART:20240408T170000
TZOFFSETFROM:-1000
TZOFFSETTO:-1000
TZNAME:HST
END:STANDARD
END:VTIMEZONE
END:VCALENDAR