BEGIN:VCALENDAR
VERSION:2.0
PRODID:-//wp-events-plugin.com//7.2.3.1//EN
TZID:Pacific/Honolulu
X-WR-TIMEZONE:Pacific/Honolulu
BEGIN:VEVENT
UID:110@castlebandkaneohe.org
DTSTART;TZID=Pacific/Honolulu:20251008T080000
DTEND;TZID=Pacific/Honolulu:20251008T150000
DTSTAMP:20250910T150553Z
URL:https://castlebandkaneohe.org/events/band-camp20251008/
SUMMARY:Band Camp
DESCRIPTION:
CATEGORIES:Field Show
END:VEVENT
BEGIN:VTIMEZONE
TZID:Pacific/Honolulu
X-LIC-LOCATION:Pacific/Honolulu
BEGIN:STANDARD
DTSTART:20241008T080000
TZOFFSETFROM:-1000
TZOFFSETTO:-1000
TZNAME:HST
END:STANDARD
END:VTIMEZONE
END:VCALENDAR