BEGIN:VCALENDAR
VERSION:2.0
PRODID:-//wp-events-plugin.com//7.2.3.1//EN
TZID:Pacific/Honolulu
X-WR-TIMEZONE:Pacific/Honolulu
BEGIN:VEVENT
UID:54@castlebandkaneohe.org
DTSTART;TZID=Pacific/Honolulu:20240928T060000
DTEND;TZID=Pacific/Honolulu:20240928T120000
DTSTAMP:20240722T015957Z
URL:https://castlebandkaneohe.org/events/aloha-week-parade/
SUMMARY:Aloha Week Parade
DESCRIPTION:Report Time: 6:00am\n\nParade starts at 9:00am
CATEGORIES:Parade,Pep Band
END:VEVENT
BEGIN:VTIMEZONE
TZID:Pacific/Honolulu
X-LIC-LOCATION:Pacific/Honolulu
BEGIN:STANDARD
DTSTART:20230929T060000
TZOFFSETFROM:-1000
TZOFFSETTO:-1000
TZNAME:HST
END:STANDARD
END:VTIMEZONE
END:VCALENDAR