BEGIN:VCALENDAR
VERSION:2.0
PRODID:-//wp-events-plugin.com//7.2.3.1//EN
TZID:Pacific/Honolulu
X-WR-TIMEZONE:Pacific/Honolulu
BEGIN:VEVENT
UID:96@castlebandkaneohe.org
DTSTART;TZID=Pacific/Honolulu:20250927T060000
DTEND;TZID=Pacific/Honolulu:20250927T120000
DTSTAMP:20250830T063130Z
URL:https://castlebandkaneohe.org/events/aloha-festival-parade/
SUMMARY:Aloha Festival Parade
DESCRIPTION:
CATEGORIES:Parade,Pep Band
END:VEVENT
BEGIN:VTIMEZONE
TZID:Pacific/Honolulu
X-LIC-LOCATION:Pacific/Honolulu
BEGIN:STANDARD
DTSTART:20240927T060000
TZOFFSETFROM:-1000
TZOFFSETTO:-1000
TZNAME:HST
END:STANDARD
END:VTIMEZONE
END:VCALENDAR