BEGIN:VCALENDAR
VERSION:2.0
PRODID:-//wp-events-plugin.com//7.2.3.1//EN
TZID:Pacific/Honolulu
X-WR-TIMEZONE:Pacific/Honolulu
BEGIN:VEVENT
UID:88@castlebandkaneohe.org
DTSTART;TZID=Pacific/Honolulu:20250509T190000
DTEND;TZID=Pacific/Honolulu:20250509T220000
DTSTAMP:20250422T033723Z
URL:https://castlebandkaneohe.org/events/aloha-concert2025/
SUMMARY:Aloha Concert
DESCRIPTION:
CATEGORIES:Jazz,Parade,Pep Band
END:VEVENT
BEGIN:VTIMEZONE
TZID:Pacific/Honolulu
X-LIC-LOCATION:Pacific/Honolulu
BEGIN:STANDARD
DTSTART:20240509T190000
TZOFFSETFROM:-1000
TZOFFSETTO:-1000
TZNAME:HST
END:STANDARD
END:VTIMEZONE
END:VCALENDAR